BEGIN:VCALENDAR
VERSION:2.0
PRODID:-//Tukios.com/
BEGIN:VEVENT
UID:3975993d-22db-4920-8070-db184cd1bc8c@www.epcompean.com
DTSTAMP:20260420T224459Z
DTSTART:20260425T190000Z
DTEND:20260425T200000Z
SUMMARY:Memorial Service
DESCRIPTION:
URL:https://www.epcompean.com/obituaries/janice-brown
LOCATION:The Sanctuary Fellowship 1315 Market St  Richmond TX 77469
GEO:29.5567399;-95.7624273
END:VEVENT
END:VCALENDAR