BEGIN:VCALENDAR
VERSION:2.0
PRODID:-//Tukios.com/
BEGIN:VEVENT
UID:9b5b7af2-2af8-43a7-8941-e119ecc26caf@www.epcompean.com
DTSTAMP:20260423T204541Z
DTSTART:20260427T210000Z
DTEND:20260428T010000Z
SUMMARY:Visitation
DESCRIPTION:
URL:https://www.epcompean.com/obituaries/jose-rendon-ochoa
LOCATION: 1223 Sixth Street  Rosenberg TX 77471
GEO:29.5551646;-95.8032083
END:VEVENT
END:VCALENDAR